BEGIN:VCALENDAR
VERSION:2.0
PRODID:-//APM - ECPv6.15.20//NONSGML v1.0//EN
CALSCALE:GREGORIAN
METHOD:PUBLISH
X-WR-CALNAME:APM
X-ORIGINAL-URL:https://www.academyofphysicalmedicine.co.uk
X-WR-CALDESC:Events for APM
REFRESH-INTERVAL;VALUE=DURATION:PT1H
X-Robots-Tag:noindex
X-PUBLISHED-TTL:PT1H
BEGIN:VTIMEZONE
TZID:Europe/London
BEGIN:DAYLIGHT
TZOFFSETFROM:+0000
TZOFFSETTO:+0100
TZNAME:BST
DTSTART:20250330T010000
END:DAYLIGHT
BEGIN:STANDARD
TZOFFSETFROM:+0100
TZOFFSETTO:+0000
TZNAME:GMT
DTSTART:20251026T010000
END:STANDARD
BEGIN:DAYLIGHT
TZOFFSETFROM:+0000
TZOFFSETTO:+0100
TZNAME:BST
DTSTART:20260329T010000
END:DAYLIGHT
BEGIN:STANDARD
TZOFFSETFROM:+0100
TZOFFSETTO:+0000
TZNAME:GMT
DTSTART:20261025T010000
END:STANDARD
BEGIN:DAYLIGHT
TZOFFSETFROM:+0000
TZOFFSETTO:+0100
TZNAME:BST
DTSTART:20270328T010000
END:DAYLIGHT
BEGIN:STANDARD
TZOFFSETFROM:+0100
TZOFFSETTO:+0000
TZNAME:GMT
DTSTART:20271031T010000
END:STANDARD
END:VTIMEZONE
BEGIN:VEVENT
DTSTART;TZID=Europe/London:20260706T130500
DTEND;TZID=Europe/London:20260706T135500
DTSTAMP:20260419T163508
CREATED:20260414T101220Z
LAST-MODIFIED:20260414T101220Z
UID:100376-1783343100-1783346100@www.academyofphysicalmedicine.co.uk
SUMMARY:AI Tools in a Clinical Practice - Michael Brown
DESCRIPTION:Michael completed his degree at the British College of Osteopathic Medicine (BCOM)\, graduating in 2009. Prior to beginning his studies Michael was a keen footballer\, and found his way to Osteopathy via his own injury on the football field. It was during his time in London at BCOM where he met Joanna\, and the rest is happy history (and future!). \nMichael has a particular interest in back pain and tendon injuries\, and frequently uses spinal manipulation and adjustment techniques as part of his treatment protocols to get his patients on the fastest route to recovery.
URL:https://www.academyofphysicalmedicine.co.uk/event/ai-tools-in-a-clinical-practice-michael-brown/
LOCATION:Online at apmcpd.co.uk
CATEGORIES:APM CPD Calendar,Lunchtime Learning
ATTACH;FMTTYPE=image/png:https://www.academyofphysicalmedicine.co.uk/wp-content/uploads/2026/04/FB-Event-Ref484.png
END:VEVENT
END:VCALENDAR